BEGIN:VCALENDAR
VERSION:2.0
PRODID:-//SCI//SCI Calendar//ES
CALSCALE:GREGORIAN
METHOD:PUBLISH
BEGIN:VEVENT
UID:sci-57480@sci.org.co
DTSTAMP:20260420T110651Z
DTSTART:20260216T210000Z
DTEND:20260216T230000Z
SUMMARY:CTP Energía
DESCRIPTION:Estudiar la actualidad energética mundial y nacional\; Propender por el seguimiento de los compromisos...\nhttps://sci.org.co/ctp-energia-20/
URL:https://sci.org.co/ctp-energia-20/
END:VEVENT
END:VCALENDAR
