BEGIN:VCALENDAR
VERSION:2.0
PRODID:-//SCI//SCI Calendar//ES
CALSCALE:GREGORIAN
METHOD:PUBLISH
BEGIN:VEVENT
UID:sci-57482@sci.org.co
DTSTAMP:20260420T132232Z
DTSTART:20260217T220000Z
DTEND:20260217T230000Z
SUMMARY:CTP Tecnologías de la Información y de las Comunicaciones
DESCRIPTION:Elaborar estudios y propuestas que aporten al desarrollo de tecnologías de la Información y de la Comunicación en Colombia...\nhttps://sci.org.co/ctp-tecnologias-de-la-informacion-y-de-las-comunicaciones-9/
URL:https://sci.org.co/ctp-tecnologias-de-la-informacion-y-de-las-comunicaciones-9/
END:VEVENT
END:VCALENDAR
