BEGIN:VCALENDAR
VERSION:2.0
PRODID:-//SCI//SCI Calendar//ES
CALSCALE:GREGORIAN
METHOD:PUBLISH
BEGIN:VEVENT
UID:sci-57491@sci.org.co
DTSTAMP:20260420T112327Z
DTSTART:20260226T133000Z
DTEND:20260226T180000Z
SUMMARY:Protección Contra Incendios Para la Industria\, la Construcción y Manufactura en Santander
DESCRIPTION:Este espacio está dirigido a profesionales\, empresas\, estudiantes y actores del sector industrial\, construcción e ingeniería\, con el propósito de fortalecer el conocimiento técnico en sistemas de protección contra incendios y seguridad humana.\nhttps://sci.org.co/proteccion-contra-incendios-para-la-industria-la-construccion-y-manufactura-en-santander/
URL:https://sci.org.co/proteccion-contra-incendios-para-la-industria-la-construccion-y-manufactura-en-santander/
END:VEVENT
END:VCALENDAR
