BEGIN:VCALENDAR
VERSION:2.0
PRODID:-//SCI//SCI Calendar//ES
CALSCALE:GREGORIAN
METHOD:PUBLISH
BEGIN:VEVENT
UID:sci-57742@sci.org.co
DTSTAMP:20260420T110637Z
DTSTART:20260226T220000Z
DTEND:20260227T000000Z
SUMMARY:CTP Geomática
DESCRIPTION:Proporcionar un espacio de encuentro entre ingenieros de diversos sectores e instituciones\, que aplican la Geomática...\nhttps://sci.org.co/ctp-geomatica-13/
URL:https://sci.org.co/ctp-geomatica-13/
END:VEVENT
END:VCALENDAR
